Package: brendaDb Version: 1.20.0 Command: /Library/Frameworks/R.framework/Resources/bin/R CMD INSTALL brendaDb StartedAt: 2025-02-10 15:51:21 -0500 (Mon, 10 Feb 2025) EndedAt: 2025-02-10 15:51:34 -0500 (Mon, 10 Feb 2025) EllapsedTime: 13.2 seconds RetCode: 0 Status: OK