Package: breakpointR Version: 1.24.0 Command: /home/biocbuild/R/R/bin/R CMD INSTALL breakpointR StartedAt: 2025-01-30 20:23:40 -0000 (Thu, 30 Jan 2025) EndedAt: 2025-01-30 20:24:15 -0000 (Thu, 30 Jan 2025) EllapsedTime: 35.0 seconds RetCode: 0 Status: OK