Package: breakpointR Version: 1.24.0 Command: /home/biocbuild/R/R/bin/R CMD build --keep-empty-dirs --no-resave-data breakpointR StartedAt: 2025-02-03 22:16:46 -0000 (Mon, 03 Feb 2025) EndedAt: 2025-02-03 22:18:07 -0000 (Mon, 03 Feb 2025) EllapsedTime: 81.0 seconds RetCode: 0 Status: OK PackageFile: breakpointR_1.24.0.tar.gz PackageFileSize: 810.8 KiB