Package: breakpointR Version: 1.24.0 Command: /home/biocbuild/bbs-3.20-bioc/R/bin/R CMD check --install=check:breakpointR.install-out.txt --library=/home/biocbuild/bbs-3.20-bioc/R/site-library --timings breakpointR_1.24.0.tar.gz StartedAt: 2025-01-27 21:19:40 -0500 (Mon, 27 Jan 2025) EndedAt: 2025-01-27 21:24:04 -0500 (Mon, 27 Jan 2025) EllapsedTime: 263.8 seconds RetCode: 0 Status: OK CheckDir: breakpointR.Rcheck Warnings: 0