Package: branchpointer Version: 1.32.0 Command: /home/biocbuild/R/R/bin/R CMD check --install=check:branchpointer.install-out.txt --library=/home/biocbuild/R/R/site-library --no-vignettes --timings branchpointer_1.32.0.tar.gz StartedAt: 2025-04-01 04:38:16 -0000 (Tue, 01 Apr 2025) EndedAt: 2025-04-01 04:44:26 -0000 (Tue, 01 Apr 2025) EllapsedTime: 369.3 seconds RetCode: 0 Status: OK CheckDir: branchpointer.Rcheck Warnings: 0