Package: branchpointer Version: 1.32.0 Command: /home/biocbuild/R/R/bin/R CMD build --keep-empty-dirs --no-resave-data branchpointer StartedAt: 2025-03-31 21:59:52 -0000 (Mon, 31 Mar 2025) EndedAt: 2025-03-31 22:01:27 -0000 (Mon, 31 Mar 2025) EllapsedTime: 95.0 seconds RetCode: 0 Status: OK PackageFile: branchpointer_1.32.0.tar.gz PackageFileSize: 4.798 MiB