Package: branchpointer Version: 1.32.0 Command: /Library/Frameworks/R.framework/Resources/bin/R CMD build --keep-empty-dirs --no-resave-data branchpointer StartedAt: 2025-03-31 19:47:49 -0400 (Mon, 31 Mar 2025) EndedAt: 2025-03-31 19:49:31 -0400 (Mon, 31 Mar 2025) EllapsedTime: 101.7 seconds RetCode: 0 Status: OK PackageFile: branchpointer_1.32.0.tar.gz PackageFileSize: 4.803 MiB