Package: brainflowprobes Version: 1.20.0 Command: rm -rf brainflowprobes.buildbin-libdir && mkdir brainflowprobes.buildbin-libdir && /Users/biocbuild/BBS/utils/build-universal.sh brainflowprobes_1.20.0.tar.gz /Library/Frameworks/R.framework/Resources/bin/R brainflowprobes.buildbin-libdir StartedAt: 2025-04-02 13:32:23 -0400 (Wed, 02 Apr 2025) EndedAt: 2025-04-02 13:33:31 -0400 (Wed, 02 Apr 2025) EllapsedTime: 67.8 seconds RetCode: 0 Status: OK PackageFile: brainflowprobes_1.20.0.tgz PackageFileSize: 1.782 MiB