Package: borealis Version: 1.10.0 Command: /home/biocbuild/R/R/bin/R CMD build --keep-empty-dirs --no-resave-data borealis StartedAt: 2025-03-31 21:59:03 -0000 (Mon, 31 Mar 2025) EndedAt: 2025-03-31 22:01:23 -0000 (Mon, 31 Mar 2025) EllapsedTime: 140.0 seconds RetCode: 0 Status: OK PackageFile: borealis_1.10.0.tar.gz PackageFileSize: 382.9 KiB