Package: borealis Version: 1.10.0 Command: F:\biocbuild\bbs-3.20-bioc\R\bin\R.exe CMD INSTALL borealis StartedAt: 2025-01-27 16:43:00 -0500 (Mon, 27 Jan 2025) EndedAt: 2025-01-27 16:43:50 -0500 (Mon, 27 Jan 2025) EllapsedTime: 50.1 seconds RetCode: 0 Status: OK