Package: borealis Version: 1.10.0 Command: chmod a+r borealis -R && F:\biocbuild\bbs-3.20-bioc\R\bin\R.exe CMD build --keep-empty-dirs --no-resave-data borealis StartedAt: 2025-01-27 17:42:00 -0500 (Mon, 27 Jan 2025) EndedAt: 2025-01-27 17:44:19 -0500 (Mon, 27 Jan 2025) EllapsedTime: 138.4 seconds RetCode: 1 Status: ERROR PackageFile: None PackageFileSize: NA