Package: borealis Version: 1.10.0 Command: /Library/Frameworks/R.framework/Resources/bin/R CMD check --install=check:borealis.install-out.txt --library=/Library/Frameworks/R.framework/Resources/library --no-vignettes --timings borealis_1.10.0.tar.gz StartedAt: 2025-01-28 00:46:15 -0500 (Tue, 28 Jan 2025) EndedAt: 2025-01-28 00:56:40 -0500 (Tue, 28 Jan 2025) EllapsedTime: 625.5 seconds RetCode: 0 Status: OK CheckDir: borealis.Rcheck Warnings: 0