Package: bnem Version: 1.14.0 Command: /home/biocbuild/bbs-3.20-bioc/R/bin/R CMD INSTALL bnem StartedAt: 2025-01-30 15:57:40 -0500 (Thu, 30 Jan 2025) EndedAt: 2025-01-30 15:58:18 -0500 (Thu, 30 Jan 2025) EllapsedTime: 38.0 seconds RetCode: 0 Status: OK