Package: bnbc Version: 1.28.0 Command: /home/biocbuild/R/R/bin/R CMD INSTALL bnbc StartedAt: 2025-02-10 20:52:47 -0000 (Mon, 10 Feb 2025) EndedAt: 2025-02-10 20:53:44 -0000 (Mon, 10 Feb 2025) EllapsedTime: 56.8 seconds RetCode: 0 Status: OK