Package: bnbc Version: 1.28.0 Command: /home/biocbuild/R/R/bin/R CMD build --keep-empty-dirs --no-resave-data bnbc StartedAt: 2025-02-10 21:58:51 -0000 (Mon, 10 Feb 2025) EndedAt: 2025-02-10 22:00:35 -0000 (Mon, 10 Feb 2025) EllapsedTime: 104.0 seconds RetCode: 0 Status: OK PackageFile: bnbc_1.28.0.tar.gz PackageFileSize: 4.216 MiB