Package: bnbc Version: 1.28.0 Command: F:\biocbuild\bbs-3.20-bioc\R\bin\R.exe CMD check --no-multiarch --install=check:bnbc.install-out.txt --library=F:\biocbuild\bbs-3.20-bioc\R\library --no-vignettes --timings bnbc_1.28.0.tar.gz StartedAt: 2025-02-10 23:41:59 -0500 (Mon, 10 Feb 2025) EndedAt: 2025-02-10 23:48:54 -0500 (Mon, 10 Feb 2025) EllapsedTime: 415.4 seconds RetCode: 0 Status: OK CheckDir: bnbc.Rcheck Warnings: 0