Package: bnbc Version: 1.28.0 Command: /home/biocbuild/bbs-3.20-bioc/R/bin/R CMD INSTALL bnbc StartedAt: 2025-02-10 15:48:20 -0500 (Mon, 10 Feb 2025) EndedAt: 2025-02-10 15:49:00 -0500 (Mon, 10 Feb 2025) EllapsedTime: 39.8 seconds RetCode: 0 Status: OK