Package: bnbc Version: 1.28.0 Command: /Library/Frameworks/R.framework/Resources/bin/R CMD INSTALL bnbc StartedAt: 2025-02-13 17:18:30 -0500 (Thu, 13 Feb 2025) EndedAt: 2025-02-13 17:19:18 -0500 (Thu, 13 Feb 2025) EllapsedTime: 48.4 seconds RetCode: 0 Status: OK