Package: bnbc Version: 1.28.0 Command: /Library/Frameworks/R.framework/Resources/bin/R CMD build --keep-empty-dirs --no-resave-data bnbc StartedAt: 2025-02-13 19:50:56 -0500 (Thu, 13 Feb 2025) EndedAt: 2025-02-13 19:52:49 -0500 (Thu, 13 Feb 2025) EllapsedTime: 112.2 seconds RetCode: 0 Status: OK PackageFile: bnbc_1.28.0.tar.gz PackageFileSize: 4.152 MiB