Package: bnbc Version: 1.28.0 Command: rm -rf bnbc.buildbin-libdir && mkdir bnbc.buildbin-libdir && /Users/biocbuild/BBS/utils/build-universal.sh bnbc_1.28.0.tar.gz /Library/Frameworks/R.framework/Resources/bin/R bnbc.buildbin-libdir StartedAt: 2025-02-15 14:30:16 -0500 (Sat, 15 Feb 2025) EndedAt: 2025-02-15 14:31:10 -0500 (Sat, 15 Feb 2025) EllapsedTime: 53.5 seconds RetCode: 0 Status: OK PackageFile: bnbc_1.28.0.tgz PackageFileSize: 4.557 MiB