Package: bluster Version: 1.16.0 Command: /Library/Frameworks/R.framework/Resources/bin/R CMD INSTALL bluster StartedAt: 2025-02-03 15:38:43 -0500 (Mon, 03 Feb 2025) EndedAt: 2025-02-03 15:39:29 -0500 (Mon, 03 Feb 2025) EllapsedTime: 45.6 seconds RetCode: 0 Status: OK