Package: bluster Version: 1.16.0 Command: /Library/Frameworks/R.framework/Resources/bin/R CMD build --keep-empty-dirs --no-resave-data bluster StartedAt: 2025-01-27 17:30:03 -0500 (Mon, 27 Jan 2025) EndedAt: 2025-01-27 17:33:43 -0500 (Mon, 27 Jan 2025) EllapsedTime: 219.5 seconds RetCode: 0 Status: OK PackageFile: bluster_1.16.0.tar.gz PackageFileSize: 3.078 MiB