Package: blima Version: 1.40.0 Command: /home/biocbuild/R/R/bin/R CMD build --keep-empty-dirs --no-resave-data blima StartedAt: 2025-01-27 22:51:01 -0000 (Mon, 27 Jan 2025) EndedAt: 2025-01-27 22:56:30 -0000 (Mon, 27 Jan 2025) EllapsedTime: 329.1 seconds RetCode: 0 Status: OK PackageFile: blima_1.40.0.tar.gz PackageFileSize: 253.9 KiB