Package: blima Version: 1.40.0 Command: chmod a+r blima -R && F:\biocbuild\bbs-3.20-bioc\R\bin\R.exe CMD build --keep-empty-dirs --no-resave-data blima StartedAt: 2025-03-31 17:41:17 -0400 (Mon, 31 Mar 2025) EndedAt: 2025-03-31 17:48:21 -0400 (Mon, 31 Mar 2025) EllapsedTime: 423.8 seconds RetCode: 0 Status: OK PackageFile: blima_1.40.0.tar.gz PackageFileSize: 264.6 KiB