Package: blacksheepr Version: 1.20.0 Command: /home/biocbuild/R/R/bin/R CMD INSTALL blacksheepr StartedAt: 2025-03-31 21:00:27 -0000 (Mon, 31 Mar 2025) EndedAt: 2025-03-31 21:00:58 -0000 (Mon, 31 Mar 2025) EllapsedTime: 30.6 seconds RetCode: 0 Status: OK