Package: blacksheepr Version: 1.20.0 Command: rm -rf blacksheepr.buildbin-libdir && mkdir blacksheepr.buildbin-libdir && F:\biocbuild\bbs-3.20-bioc\R\bin\R.exe CMD INSTALL --build --library=blacksheepr.buildbin-libdir blacksheepr_1.20.0.tar.gz StartedAt: 2025-04-01 07:47:07 -0400 (Tue, 01 Apr 2025) EndedAt: 2025-04-01 07:47:53 -0400 (Tue, 01 Apr 2025) EllapsedTime: 46.0 seconds RetCode: 0 Status: OK PackageFile: blacksheepr_1.20.0.zip PackageFileSize: 4.037 MiB