Package: blacksheepr Version: 1.20.0 Command: rm -rf blacksheepr.buildbin-libdir && mkdir blacksheepr.buildbin-libdir && /Users/biocbuild/BBS/utils/build-universal.sh blacksheepr_1.20.0.tar.gz /Library/Frameworks/R.framework/Resources/bin/R blacksheepr.buildbin-libdir StartedAt: 2025-04-01 11:30:11 -0400 (Tue, 01 Apr 2025) EndedAt: 2025-04-01 11:31:02 -0400 (Tue, 01 Apr 2025) EllapsedTime: 50.7 seconds RetCode: 0 Status: OK PackageFile: blacksheepr_1.20.0.tgz PackageFileSize: 4.285 MiB