Package: blacksheepr Version: 1.20.0 Command: /Library/Frameworks/R.framework/Resources/bin/R CMD INSTALL blacksheepr StartedAt: 2025-03-31 17:33:52 -0400 (Mon, 31 Mar 2025) EndedAt: 2025-03-31 17:34:19 -0400 (Mon, 31 Mar 2025) EllapsedTime: 27.2 seconds RetCode: 0 Status: OK