Package: biscuiteer Version: 1.20.0 Command: /home/biocbuild/R/R/bin/R CMD INSTALL biscuiteer StartedAt: 2025-02-10 20:38:56 -0000 (Mon, 10 Feb 2025) EndedAt: 2025-02-10 20:40:40 -0000 (Mon, 10 Feb 2025) EllapsedTime: 103.6 seconds RetCode: 0 Status: OK