Package: biscuiteer Version: 1.20.0 Command: /home/biocbuild/R/R/bin/R CMD build --keep-empty-dirs --no-resave-data biscuiteer StartedAt: 2025-02-10 21:55:54 -0000 (Mon, 10 Feb 2025) EndedAt: 2025-02-10 22:31:24 -0000 (Mon, 10 Feb 2025) EllapsedTime: 2130.9 seconds RetCode: 0 Status: OK PackageFile: biscuiteer_1.20.0.tar.gz PackageFileSize: 4.828 MiB