Package: biscuiteer Version: 1.20.0 Command: F:\biocbuild\bbs-3.20-bioc\R\bin\R.exe CMD check --no-multiarch --install=check:biscuiteer.install-out.txt --library=F:\biocbuild\bbs-3.20-bioc\R\library --no-vignettes --timings biscuiteer_1.20.0.tar.gz StartedAt: 2025-02-13 23:20:50 -0500 (Thu, 13 Feb 2025) EndedAt: 2025-02-13 23:31:32 -0500 (Thu, 13 Feb 2025) EllapsedTime: 641.5 seconds RetCode: 0 Status: WARNINGS CheckDir: biscuiteer.Rcheck Warnings: 1