Package: biscuiteer Version: 1.20.0 Command: chmod a+r biscuiteer -R && F:\biocbuild\bbs-3.20-bioc\R\bin\R.exe CMD build --keep-empty-dirs --no-resave-data biscuiteer StartedAt: 2025-02-13 17:33:22 -0500 (Thu, 13 Feb 2025) EndedAt: 2025-02-13 17:36:38 -0500 (Thu, 13 Feb 2025) EllapsedTime: 196.2 seconds RetCode: 0 Status: OK PackageFile: biscuiteer_1.20.0.tar.gz PackageFileSize: 4.762 MiB