Package: biscuiteer Version: 1.20.0 Command: rm -rf biscuiteer.buildbin-libdir && mkdir biscuiteer.buildbin-libdir && F:\biocbuild\bbs-3.20-bioc\R\bin\R.exe CMD INSTALL --build --library=biscuiteer.buildbin-libdir biscuiteer_1.20.0.tar.gz StartedAt: 2025-02-14 07:38:23 -0500 (Fri, 14 Feb 2025) EndedAt: 2025-02-14 07:40:29 -0500 (Fri, 14 Feb 2025) EllapsedTime: 125.5 seconds RetCode: 0 Status: OK PackageFile: biscuiteer_1.20.0.zip PackageFileSize: 5.204 MiB