Package: biscuiteer Version: 1.20.0 Command: /home/biocbuild/bbs-3.20-bioc/R/bin/R CMD check --install=check:biscuiteer.install-out.txt --library=/home/biocbuild/bbs-3.20-bioc/R/site-library --timings biscuiteer_1.20.0.tar.gz StartedAt: 2025-02-10 20:23:28 -0500 (Mon, 10 Feb 2025) EndedAt: 2025-02-10 20:32:37 -0500 (Mon, 10 Feb 2025) EllapsedTime: 548.2 seconds RetCode: 0 Status: WARNINGS CheckDir: biscuiteer.Rcheck Warnings: 1