Package: biscuiteer Version: 1.20.0 Command: /Library/Frameworks/R.framework/Resources/bin/R CMD INSTALL biscuiteer StartedAt: 2025-02-13 15:50:17 -0500 (Thu, 13 Feb 2025) EndedAt: 2025-02-13 15:52:49 -0500 (Thu, 13 Feb 2025) EllapsedTime: 151.6 seconds RetCode: 0 Status: OK