Package: biscuiteer Version: 1.20.0 Command: /Library/Frameworks/R.framework/Resources/bin/R CMD check --install=check:biscuiteer.install-out.txt --library=/Library/Frameworks/R.framework/Resources/library --no-vignettes --timings biscuiteer_1.20.0.tar.gz StartedAt: 2025-02-14 00:14:23 -0500 (Fri, 14 Feb 2025) EndedAt: 2025-02-14 00:30:48 -0500 (Fri, 14 Feb 2025) EllapsedTime: 985.3 seconds RetCode: 0 Status: WARNINGS CheckDir: biscuiteer.Rcheck Warnings: 1