Package: biscuiteer Version: 1.20.0 Command: /Library/Frameworks/R.framework/Resources/bin/R CMD build --keep-empty-dirs --no-resave-data biscuiteer StartedAt: 2025-02-13 17:21:33 -0500 (Thu, 13 Feb 2025) EndedAt: 2025-02-13 17:25:29 -0500 (Thu, 13 Feb 2025) EllapsedTime: 235.3 seconds RetCode: 0 Status: OK PackageFile: biscuiteer_1.20.0.tar.gz PackageFileSize: 4.762 MiB