Package: biscuiteer Version: 1.20.0 Command: rm -rf biscuiteer.buildbin-libdir && mkdir biscuiteer.buildbin-libdir && /Users/biocbuild/BBS/utils/build-universal.sh biscuiteer_1.20.0.tar.gz /Library/Frameworks/R.framework/Resources/bin/R biscuiteer.buildbin-libdir StartedAt: 2025-02-14 13:59:52 -0500 (Fri, 14 Feb 2025) EndedAt: 2025-02-14 14:03:50 -0500 (Fri, 14 Feb 2025) EllapsedTime: 238.1 seconds RetCode: 0 Status: OK PackageFile: biscuiteer_1.20.0.tgz PackageFileSize: 5.19 MiB