Package: biscuiteer Version: 1.20.0 Command: /Library/Frameworks/R.framework/Resources/bin/R CMD INSTALL biscuiteer StartedAt: 2025-02-10 16:29:32 -0500 (Mon, 10 Feb 2025) EndedAt: 2025-02-10 16:30:56 -0500 (Mon, 10 Feb 2025) EllapsedTime: 83.6 seconds RetCode: 0 Status: OK