Package: biscuiteer Version: 1.20.0 Command: /Library/Frameworks/R.framework/Resources/bin/R CMD check --install=check:biscuiteer.install-out.txt --library=/Library/Frameworks/R.framework/Resources/library --no-vignettes --timings biscuiteer_1.20.0.tar.gz StartedAt: 2025-02-11 12:48:51 -0500 (Tue, 11 Feb 2025) EndedAt: 2025-02-11 12:59:08 -0500 (Tue, 11 Feb 2025) EllapsedTime: 616.6 seconds RetCode: 0 Status: WARNINGS CheckDir: biscuiteer.Rcheck Warnings: 1