Package: biscuiteer Version: 1.20.0 Command: /Library/Frameworks/R.framework/Resources/bin/R CMD build --keep-empty-dirs --no-resave-data biscuiteer StartedAt: 2025-02-10 19:52:26 -0500 (Mon, 10 Feb 2025) EndedAt: 2025-02-10 19:54:43 -0500 (Mon, 10 Feb 2025) EllapsedTime: 137.3 seconds RetCode: 0 Status: OK PackageFile: biscuiteer_1.20.0.tar.gz PackageFileSize: 4.761 MiB