Package: biovizBase Version: 1.54.0 Command: /home/biocbuild/R/R/bin/R CMD INSTALL biovizBase StartedAt: 2025-02-03 20:55:27 -0000 (Mon, 03 Feb 2025) EndedAt: 2025-02-03 20:56:22 -0000 (Mon, 03 Feb 2025) EllapsedTime: 55.1 seconds RetCode: 0 Status: OK