Package: biovizBase Version: 1.54.0 Command: /home/biocbuild/R/R/bin/R CMD check --install=check:biovizBase.install-out.txt --library=/home/biocbuild/R/R/site-library --no-vignettes --timings biovizBase_1.54.0.tar.gz StartedAt: 2025-04-01 04:34:41 -0000 (Tue, 01 Apr 2025) EndedAt: 2025-04-01 04:41:22 -0000 (Tue, 01 Apr 2025) EllapsedTime: 401.4 seconds RetCode: 0 Status: WARNINGS CheckDir: biovizBase.Rcheck Warnings: 2