Package: biovizBase Version: 1.54.0 Command: F:\biocbuild\bbs-3.20-bioc\R\bin\R.exe CMD INSTALL biovizBase StartedAt: 2025-03-31 16:15:38 -0400 (Mon, 31 Mar 2025) EndedAt: 2025-03-31 16:17:01 -0400 (Mon, 31 Mar 2025) EllapsedTime: 82.4 seconds RetCode: 0 Status: OK