Package: biotmle Version: 1.30.0 Command: F:\biocbuild\bbs-3.20-bioc\R\bin\R.exe CMD INSTALL biotmle StartedAt: 2025-03-31 16:59:48 -0400 (Mon, 31 Mar 2025) EndedAt: 2025-03-31 17:00:24 -0400 (Mon, 31 Mar 2025) EllapsedTime: 35.8 seconds RetCode: 0 Status: OK