Package: biotmle Version: 1.30.0 Command: /Library/Frameworks/R.framework/Resources/bin/R CMD check --install=check:biotmle.install-out.txt --library=/Library/Frameworks/R.framework/Resources/library --no-vignettes --timings biotmle_1.30.0.tar.gz StartedAt: 2025-01-28 00:40:11 -0500 (Tue, 28 Jan 2025) EndedAt: 2025-01-28 00:48:10 -0500 (Tue, 28 Jan 2025) EllapsedTime: 478.4 seconds RetCode: 0 Status: OK CheckDir: biotmle.Rcheck Warnings: 0