Package: biotmle Version: 1.30.0 Command: rm -rf biotmle.buildbin-libdir && mkdir biotmle.buildbin-libdir && /Users/biocbuild/BBS/utils/build-universal.sh biotmle_1.30.0.tar.gz /Library/Frameworks/R.framework/Resources/bin/R biotmle.buildbin-libdir StartedAt: 2025-01-28 12:43:12 -0500 (Tue, 28 Jan 2025) EndedAt: 2025-01-28 12:44:10 -0500 (Tue, 28 Jan 2025) EllapsedTime: 58.2 seconds RetCode: 0 Status: OK PackageFile: biotmle_1.30.0.tgz PackageFileSize: 367.3 KiB