Package: biotmle Version: 1.30.0 Maintainer: Nima Hejazi MaintainerEmail: nh at nimahejazi.org git_url: https://git.bioconductor.org/packages/biotmle git_branch: RELEASE_3_20 git_last_commit: 166f1b5 git_last_commit_date: 2024-10-29 10:19:06 -0500 (Tue, 29 Oct 2024)