Package: biosigner Version: 1.34.0 Command: /Library/Frameworks/R.framework/Resources/bin/R CMD INSTALL biosigner StartedAt: 2025-03-31 16:31:19 -0400 (Mon, 31 Mar 2025) EndedAt: 2025-03-31 16:32:17 -0400 (Mon, 31 Mar 2025) EllapsedTime: 58.4 seconds RetCode: 0 Status: OK