Package: biosigner Version: 1.34.0 Command: rm -rf biosigner.buildbin-libdir && mkdir biosigner.buildbin-libdir && /Users/biocbuild/BBS/utils/build-universal.sh biosigner_1.34.0.tar.gz /Library/Frameworks/R.framework/Resources/bin/R biosigner.buildbin-libdir StartedAt: 2025-04-02 13:30:13 -0400 (Wed, 02 Apr 2025) EndedAt: 2025-04-02 13:30:49 -0400 (Wed, 02 Apr 2025) EllapsedTime: 36.4 seconds RetCode: 0 Status: OK PackageFile: biosigner_1.34.0.tgz PackageFileSize: 4.927 MiB